BEGIN:VCALENDAR
VERSION:2.0
PRODID:-//Tukios.com/
BEGIN:VEVENT
UID:c715bcd3-4262-4a3b-ada9-d05348759345@www.fryfuneralhome.com
DTSTAMP:20260419T223611Z
DTSTART:20260424T143000Z
DTEND:20260424T163000Z
SUMMARY:Visitation
DESCRIPTION:
URL:https://www.fryfuneralhome.com/obituaries/thomas-donohoe
LOCATION:St. Mary Catholic Church 123 East 1st Street  Mechanicsville IA 
	52306
GEO:41.9044198;-91.2546735
END:VEVENT
END:VCALENDAR