BEGIN:VCALENDAR
VERSION:2.0
PRODID:-//Tukios.com/
BEGIN:VEVENT
UID:0218158b-a3f2-4d0c-807f-4f05e89935e7@www.fryfuneralhome.com
DTSTAMP:20260419T223517Z
DTSTART:20260424T163000Z
DTEND:20260424T173000Z
SUMMARY:Mass
DESCRIPTION:
URL:https://www.fryfuneralhome.com/obituaries/thomas-donohoe
LOCATION:St. Mary Catholic Church 123 East 1st Street  Mechanicsville IA 
	52306
GEO:41.9044198;-91.2546735
END:VEVENT
END:VCALENDAR